BEGIN:VCALENDAR
VERSION:2.0
PRODID:-//ChamberMaster//Event Calendar 2.0//EN
METHOD:PUBLISH
X-PUBLISHED-TTL:P3D
REFRESH-INTERVAL:P3D
CALSCALE:GREGORIAN
BEGIN:VEVENT
DTSTART:20230323T213000Z
DTEND:20230323T230000Z
X-MICROSOFT-CDO-ALLDAYEVENT:FALSE
SUMMARY:ALIVE AFTER 5!
DESCRIPTION:Come out for a fun evening and see what's happening in the world of Virtual Golf!  The Cave is a Virtual Golf Simulator facility serving food and drinks!  \n\nOwned by Karen Nicoletti\, a professional golfer with the LPGA and her husband Brad Swearingen\, a former professional golf caddy\, The Cave opened on Feb. 4.  \n\nThey offer also free women's golf clinics on Mondays and specials for veterans\, police\, firefighters\, emergency medical services and educators.  \n\n\n\nThe Cave is open 11 a.m. to 10 p.m. daily and normally costs $50 an hour to use one of the simulators\, which can accommodate up to six people.
X-ALT-DESC;FMTTYPE=text/html:<p style="box-sizing: border-box\; margin: 0px 0px 20px\;"><strong><font color="#0000ff" face="verdana"><span style="caret-color: rgb(85\, 85\, 85)\; font-size: 14px\; letter-spacing: 0.10000000149011612px\;">Come out for a fun evening and see what&#39\;s happening in the world of Virtual Golf! &nbsp\;The Cave&nbsp\;is a Virtual Golf Simulator&nbsp\;facility serving food and drinks! &nbsp\;<br />\nOwned by&nbsp\;</span></font></strong><span style="color:#0000FF\;"><strong><span style="font-size:14px\;"><span style="font-family:verdana\;">Karen Nicoletti\, a professional golfer with the LPGA and her husband Brad Swearingen\, a former professional golf caddy\, The Cave opened on Feb. 4. &nbsp\;<br />\nThey&nbsp\;offer&nbsp\;also free women&rsquo\;s golf clinics on Mondays and specials for veterans\, police\, firefighters\, emergency medical services and educators. &nbsp\;</span></span></strong></span><br />\n<br />\n<span style="font-size:12px\;"><em><span style="color:#FF0000\;"><strong><span style="font-family:verdana\;">The Cave is open 11 a.m. to 10 p.m. daily and normally&nbsp\;costs $50 an hour to use one of the simulators\, which can accommodate up to six people.&nbsp\;</span></strong></span></em></span></p>\n
LOCATION:The Cave 9250 Corkscrew Road\, Suite 13 Estero
UID:e.3570.791
SEQUENCE:3
DTSTAMP:20260424T144931Z
URL:https://business.esterochamber.org/events/details/alive-after-5-791
END:VEVENT

END:VCALENDAR
