BEGIN:VCALENDAR
VERSION:2.0
PRODID:-//ChamberMaster//Event Calendar 2.0//EN
METHOD:PUBLISH
X-PUBLISHED-TTL:P3D
REFRESH-INTERVAL:P3D
CALSCALE:GREGORIAN
BEGIN:VEVENT
DTSTART:20250710T213000Z
DTEND:20250711T000000Z
X-MICROSOFT-CDO-ALLDAYEVENT:FALSE
SUMMARY:Alive After Five! at Oak & Stone
DESCRIPTION:Connect\, Mingle\, and Grow with the Greater Estero Community at Alive After Five! at Oak & Stone Restaurant\n\nJoin us for an engaging evening of conversation\, connection\, and community with fellow professionals and neighbors from Greater Estero. Enjoy mouthwatering appetizers and enjoy happy hour specials from Oak & Stone as you mix and mingle in a relaxed\, welcoming atmosphere. Don't miss this fantastic opportunity to build relationships\, share ideas\, and meet local business leaders in a fun\, casual setting.\n\n\n\nCheck out photos from last year's event!
X-ALT-DESC;FMTTYPE=text/html:<b>Connect\, Mingle\, and Grow with the Greater Estero Community at Alive After Five! at Oak &amp\; Stone Restaurant</b><br />\nJoin us for an engaging evening of conversation\, connection\, and community with fellow professionals and neighbors from Greater Estero. Enjoy mouthwatering appetizers and enjoy happy hour specials from Oak &amp\; Stone as you mix and mingle in a relaxed\, welcoming atmosphere. Don&rsquo\;t miss this fantastic opportunity to build relationships\, share ideas\, and meet local business leaders in a fun\, casual setting.<br />\n<br />\n<a href="https://www.esterochamber.org/2024/06/21/juneaaf/">Check out photos from last year&#39\;s event</a>!
LOCATION:
UID:e.3570.1258
SEQUENCE:3
DTSTAMP:20260421T154059Z
URL:https://business.esterochamber.org/events/details/alive-after-five-at-oak-stone-1258
END:VEVENT

END:VCALENDAR
