BEGIN:VCALENDAR
VERSION:2.0
PRODID:-//ChamberMaster//Event Calendar 2.0//EN
METHOD:PUBLISH
X-PUBLISHED-TTL:P3D
REFRESH-INTERVAL:P3D
CALSCALE:GREGORIAN
BEGIN:VEVENT
DTSTART:20260410T230000Z
DTEND:20260411T013000Z
X-MICROSOFT-CDO-ALLDAYEVENT:FALSE
SUMMARY:Chamber Night at the Everblades
DESCRIPTION:The Chamber is offering the first 50 takers a pair of complimentary tickets for Friday\, April 10\, 2026 to the see Florida Everblades take on the South Carolina Stingrays at Hertz Arena.
X-ALT-DESC;FMTTYPE=text/html:<span style="color: rgb(64\, 63\, 66)\; font-family: Tahoma\, Geneva\, sans-serif\; font-size: 16px\; white-space-collapse: preserve\;">The Chamber is offering the first 50 takers a pair of complimentary tickets for Friday\, April 10\, 2026 to the see Florida Everblades take on the South Carolina Stingrays at Hertz Arena. </span><scribe-shadow data-crx="okfkdaglfjjjfefdcppliegebpoegaii" id="crxjs-ext" style="position: fixed\; width: 0px\; height: 0px\; top: 0px\; left: 0px\; z-index: 2147483647\; overflow: visible\; visibility: visible\;"></scribe-shadow>
LOCATION:
UID:e.3570.1654
SEQUENCE:3
DTSTAMP:20260419T134533Z
URL:https://business.esterochamber.org/events/details/chamber-night-at-the-everblades-1654
END:VEVENT

END:VCALENDAR
