BEGIN:VCALENDAR
VERSION:2.0
PRODID:-//ChamberMaster//Event Calendar 2.0//EN
METHOD:PUBLISH
X-PUBLISHED-TTL:P3D
REFRESH-INTERVAL:P3D
CALSCALE:GREGORIAN
BEGIN:VEVENT
DTSTART;VALUE=DATE:20250220
DTEND;VALUE=DATE:20250222
TRANSP:TRANSPARENT
X-MICROSOFT-CDO-ALLDAYEVENT:TRUE
SUMMARY:FGCU Emerging Leader Program
DESCRIPTION:The Emerging Leaders program is an in-person\, action-based experience that prepares participants to lead with confidence\, inspire their teams\, and drive success. Led by seasoned academic professionals\, this program brings the latest research and best practices on leading yourself\, your team\, and your organization.
X-ALT-DESC;FMTTYPE=text/html:The Emerging Leaders program is an in-person\, action-based experience that prepares participants to lead with confidence\, inspire their teams\, and drive success. Led by seasoned academic professionals\, this program brings the latest research and best practices on leading yourself\, your team\, and your organization.
LOCATION:Hertz International
UID:e.3570.1224
SEQUENCE:3
DTSTAMP:20260426T015803Z
URL:https://business.esterochamber.org/events/details/fgcu-emerging-leader-program-1224
END:VEVENT

END:VCALENDAR
