BEGIN:VCALENDAR
VERSION:2.0
PRODID:-//ChamberMaster//Event Calendar 2.0//EN
METHOD:PUBLISH
X-PUBLISHED-TTL:P3D
REFRESH-INTERVAL:P3D
CALSCALE:GREGORIAN
BEGIN:VEVENT
DTSTART:20251008T153000Z
DTEND:20251008T170000Z
X-MICROSOFT-CDO-ALLDAYEVENT:FALSE
SUMMARY:FOOD FOR THOUGHT LUNCHEON: Lee County Port Authority's Steven Hennigan
DESCRIPTION:Lee County's airports are at the heart of many regional industries supporting tourism\, logistics\, and economic development. Don't miss this opportunity to hear firsthand how these vital hubs are evolving and what it means for Southwest Florida's future.\n\n\n\nEnjoy a buffet lunch courtesy of the talented chefs at Embassy Suites\, and connect with fellow business and community leaders in a relaxed setting.
X-ALT-DESC;FMTTYPE=text/html:Lee County&rsquo\;s airports are at the heart of many regional industries&mdash\;supporting tourism\, logistics\, and economic development. Don&rsquo\;t miss this opportunity to hear firsthand how these vital hubs are evolving and what it means for Southwest Florida&rsquo\;s future.<br />\n<br />\nEnjoy a buffet lunch courtesy of the talented chefs at Embassy Suites\, and connect with fellow business and community leaders in a relaxed setting.
LOCATION:
UID:e.3570.1261
SEQUENCE:3
DTSTAMP:20260421T144917Z
URL:https://business.esterochamber.org/events/details/food-for-thought-luncheon-lee-county-port-authority-s-steven-hennigan-1261
END:VEVENT

END:VCALENDAR
