BEGIN:VCALENDAR
VERSION:2.0
PRODID:-//ChamberMaster//Event Calendar 2.0//EN
METHOD:PUBLISH
X-PUBLISHED-TTL:P3D
REFRESH-INTERVAL:P3D
CALSCALE:GREGORIAN
BEGIN:VEVENT
DTSTART:20260424T233000Z
DTEND:20260425T013000Z
X-MICROSOFT-CDO-ALLDAYEVENT:FALSE
SUMMARY:Improv Comedy Arts Show
DESCRIPTION:Join Improv Comedy Arts for an unforgettable evening of unscripted hilarity featuring talented multi-generational improvisers! Come be part of the creative process as our skilled performers transform YOUR suggestions into spontaneous scenes\, games\, and stories right before your eyes.\n\nThroughout the evening\, you'll have countless opportunities to shout out ideas\, locations\, emotions\, and scenarios that will instantly become the foundation for side-splitting comedy. From the moment the show begins\, our improvisers will be calling on the audience for inspiration - whether it's suggesting a profession for a character\, a location for a scene\, or even sound effects to accompany the action.\n\nYour voice matters\, and your creativity becomes part of the magic happening on stage. Come ready to participate\, laugh\, and witness how your ideas come to life through the art of improvisation. Every show is completely unique because every audience brings their own energy and suggestions to create something that has never been seen before and will never be seen again!
X-ALT-DESC;FMTTYPE=text/html:<p>Join Improv Comedy Arts for an unforgettable evening of unscripted hilarity featuring talented multi-generational improvisers! Come be part of the creative process as our skilled performers transform YOUR suggestions into spontaneous scenes\, games\, and stories right before your eyes.</p>\n\n<p>Throughout the evening\, you&#39\;ll have countless opportunities to shout out ideas\, locations\, emotions\, and scenarios that will instantly become the foundation for side-splitting comedy. From the moment the show begins\, our improvisers will be calling on the audience for inspiration - whether it&#39\;s suggesting a profession for a character\, a location for a scene\, or even sound effects to accompany the action.</p>\n\n<p>Your voice matters\, and your creativity becomes part of the magic happening on stage. Come ready to participate\, laugh\, and witness how your ideas come to life through the art of improvisation. Every show is completely unique because every audience brings their own energy and suggestions to create something that has never been seen before and will never be seen again!</p>\n
LOCATION:Arts Bonita Performing Arts Center\, Moe Auditorium
UID:e.3570.1599
SEQUENCE:3
DTSTAMP:20260419T134303Z
URL:https://business.esterochamber.org/events/details/improv-comedy-arts-show-04-24-2026-1599
END:VEVENT

END:VCALENDAR
