BEGIN:VCALENDAR
VERSION:2.0
PRODID:-//ChamberMaster//Event Calendar 2.0//EN
METHOD:PUBLISH
X-PUBLISHED-TTL:P3D
REFRESH-INTERVAL:P3D
CALSCALE:GREGORIAN
BEGIN:VEVENT
DTSTART:20260813T233000Z
DTEND:20260814T013000Z
X-MICROSOFT-CDO-ALLDAYEVENT:FALSE
SUMMARY:Zach Bartholomew: The Art of the Trio
DESCRIPTION:Discover the magic\, nuance\, and dynamic interplay of one of jazz's most iconic formats in The Art of the Trio\, a concert celebrating the power and poetry of the jazz piano trio. Led by award-winning pianist Dr. Zachary Bartholomew\, this performance pays tribute to the legendary trios that defined the genre from Bill Evans\, Oscar Peterson\, and Ahmad Jamal to Herbie Hancock and Brad Mehldau. With a focus on intricate arrangements\, group chemistry\, and spontaneous creativity\, each piece captures the essence of the trio as both a tight ensemble and a vehicle for expressive freedom.\n\nThe program also features original compositions by Bartholomew\, offering a modern take on the trio tradition while pushing it into new\, exciting territory. Blending deep reverence with bold innovation\, this concert showcases the trio as a living\, evolving art form.\n\nJoin us at Arts Bonita for an evening of elegance\, energy\, and pure musical conversation at its finest.
X-ALT-DESC;FMTTYPE=text/html:<p><span style="font-size:16px">Discover the magic\, nuance\, and dynamic interplay of one of jazz&rsquo\;s most iconic formats in The Art of the Trio\, a concert celebrating the power and poetry of the jazz piano trio. Led by award-winning pianist Dr.&nbsp\;Zachary&nbsp\;Bartholomew\, this performance pays tribute to the legendary trios that defined the genre&mdash\;from Bill Evans\, Oscar Peterson\, and Ahmad Jamal to Herbie Hancock and Brad Mehldau. With a focus on intricate arrangements\, group chemistry\, and spontaneous creativity\, each piece captures the essence of the trio as both a tight ensemble and a vehicle for expressive freedom.</span></p>\n\n<p><span style="font-size:16px">The program also features original compositions by Bartholomew\, offering a modern take on the trio tradition while pushing it into new\, exciting territory. Blending deep reverence with bold innovation\, this concert showcases the trio as a living\, evolving art form.</span></p>\n\n<p><span style="font-size:16px">Join us at Arts Bonita for an evening of elegance\, energy\, and pure musical conversation at its finest.&nbsp\;</span></p>\n\n<p>&nbsp\;</p>\n
LOCATION:Arts Bonita Performing Arts Center Moe Auditorium
UID:e.3570.1642
SEQUENCE:3
DTSTAMP:20260419T122551Z
URL:https://business.esterochamber.org/events/details/zach-bartholomew-the-art-of-the-trio-1642
END:VEVENT

END:VCALENDAR
